BEGIN:VCALENDAR
VERSION:2.0
X-WR-CALNAME:EventsCalendar
BEGIN:VEVENT
CATEGORIES:Event Category,Advisement,Event Category,Alumni,Event Category,CUNY,Event Category,Career Development,Event Category,General Public,Event Category,Lehman Community,Event Category,Live Events,Event Category,Social Media,Event Category,Webinar,Event Category,Workshops,Event Type,Webinar,Schools,School of Business,Schools,School of Continuing &amp; Professional Studies,Audience,Alumni,Audience,Faculty,Audience,Friend of Lehman,Audience,Graduate Students,Audience,Parents,Audience,Prospective Students,Audience,Staff,Audience,Students,Audience,Transfer Students,Audience,Visitors,Featured,Yes
DESCRIPTION:&amp;iquest;Qu&amp;eacute; es un perfil de negocio de Google?- Principales beneficios- Como aparecer en el mapa- Pasos para crear tu perfil- Tips para optimizar tu perfil_________________________________________Grow Your Business With Google What is a Google Business Profile?- Key Benefits- How to get on the Map- Steps to create your profile- Tips to optimize your profile &amp;nbsp;98800 Entrepreneurs, Emprendedores, Small Business, Negocios peque&amp;ntilde;os, Google, Small Business Development Center, SBA, NYSBDC, SBDC, SCPS, Google page, Business advising
DTSTAMP:20260423T070923
DTSTART:20250528T120000
DTEND:20250528T130000
LOCATION:Online
SUMMARY;LANGUAGE=en-us:Impulse Su Negocio con Google/ Grow Your Business With Google
UID:107467cc2c8cd39bf26ee47b783c38bf@www.lehman.edu
END:VEVENT
END:VCALENDAR
