BEGIN:VCALENDAR
VERSION:2.0
X-WR-CALNAME:EventsCalendar
BEGIN:VEVENT
CATEGORIES:Event Category,Advisement,Event Category,Career Development,Event Category,Counseling,Event Category,Free course,Event Category,General Public,Event Category,Live Events,Event Category,Training,Event Category,Workshops,Event Type,Lectures,Event Type,Meeting,Schools,School of Business,Schools,School of Continuing &amp; Professional Studies,Audience,Alumni,Audience,Faculty,Audience,Friend of Lehman,Audience,Graduate Students,Audience,Parents,Audience,Prospective Students,Audience,Staff,Audience,Students,Audience,Transfer Students,Audience,Visitors,Featured,Yes
DESCRIPTION:Acceso a Capital para su Negocio Opciones de pr&amp;eacute;stamos disponiblesDocumentaci&amp;oacute;n necesaria para solicitar financiamientoC&amp;oacute;mo presentar una solicitud s&amp;oacute;lidaRecursos y programas que apoyan a su negocio-------------------------------------&amp;nbsp;Access to Capital for Your Business Loan options availableDocumentation required to prepare to apply for fundingHow to have a strong applicationResources and programs to support your business98803 Small Business Development Center, SBA, NYSBDC, SBDC, SCPS, Small Business Help, Financing, Financiamiento, Negocio, Asesoria de negocios, Small Business advising, Capital
DTSTAMP:20260425T194023
DTSTART:20250528T160000
DTEND:20250528T173000
LOCATION:CUNY on The Concourse
SUMMARY;LANGUAGE=en-us:Acceso A Capital Para Su Negocio/ Access To Capital For Your Business
UID:8437d35411b0181f019653ba2b074947@www.lehman.edu
END:VEVENT
END:VCALENDAR
